BEGIN:VCALENDAR
VERSION:2.0
PRODID:-//IBEP - Instituto Brasileiro de Estudos Pol&iacute;ticos - ECPv6.15.10//NONSGML v1.0//EN
CALSCALE:GREGORIAN
METHOD:PUBLISH
X-ORIGINAL-URL:https://www.ibepbrasil.org.br
X-WR-CALDESC:Eventos para IBEP - Instituto Brasileiro de Estudos Pol&iacute;ticos
REFRESH-INTERVAL;VALUE=DURATION:PT1H
X-Robots-Tag:noindex
X-PUBLISHED-TTL:PT1H
BEGIN:VTIMEZONE
TZID:America/Sao_Paulo
BEGIN:STANDARD
TZOFFSETFROM:-0200
TZOFFSETTO:-0300
TZNAME:-03
DTSTART:20190217T020000
END:STANDARD
END:VTIMEZONE
BEGIN:VEVENT
DTSTART;TZID=America/Sao_Paulo:20201217T183000
DTEND;TZID=America/Sao_Paulo:20201217T193000
DTSTAMP:20260423T124105
CREATED:20201217T213000Z
LAST-MODIFIED:20201214T165640Z
UID:10043-1608229800-1608233400@www.ibepbrasil.org.br
SUMMARY:DIÁLOGOS IBEP - Centenário de Celso Furtado\, Intérprete do Brasil
DESCRIPTION:Tema:  “Centenário de Celso Furtado\, Intérprete do Brasil”\nPresenças: Rosa Freire D’Aguiar\, Jornalista e Tradutora (Diretora do Centro Internacional Celso Furtado) e Roberto Saturnino Braga\, Ex-Senador e Ex -Prefeito do Rio de Janeiro. \nA transmissão será através do Canal do IBEP no Youtube: https://www.youtube.com/channel/UCLKFlAP-RuC8rfumqcBDgFQ
URL:https://www.ibepbrasil.org.br/evento/dialogos-ibep-centenario-de-celso-furtado-interprete-do-brasil/
LOCATION:No Youtube
ATTACH;FMTTYPE=image/jpeg:https://www.ibepbrasil.org.br/wp-content/uploads/2020/12/eventos_5.jpg
END:VEVENT
BEGIN:VEVENT
DTSTART;TZID=America/Sao_Paulo:20201215T183000
DTEND;TZID=America/Sao_Paulo:20201215T193000
DTSTAMP:20260423T124105
CREATED:20201215T213000Z
LAST-MODIFIED:20201214T165641Z
UID:10040-1608057000-1608060600@www.ibepbrasil.org.br
SUMMARY:DIÁLOGOS IBEP - O Feminicídio no Brasil: Causas e Dinâmica
DESCRIPTION:Tema:  “O Feminicídio no Brasil: Causas e Dinâmica“\nPresenças: Giowana Cambrone\, Advogada e Professora Universitária\, Vice Presidente da Comissão de Diversidade Sexual e Gênero da OAB-Rj; Jackeline Aparecida Ferreira Romio\, Doutora em Demografia pela Unicamp; Rosana Morgado\, Professora da Escola de Serviço Social da UFRJ\, sob a mediação de Susana de Castro\, Professora Associada de Filosofia da UFRJ. \nA transmissão será através do Canal do IBEP no Youtube: https://www.youtube.com/channel/UCLKFlAP-RuC8rfumqcBDgFQ
URL:https://www.ibepbrasil.org.br/evento/dialogos-ibep-o-feminicidio-no-brasil-causas-e-dinamica/
LOCATION:No Youtube
ATTACH;FMTTYPE=image/jpeg:https://www.ibepbrasil.org.br/wp-content/uploads/2020/12/eventos_4.jpg
END:VEVENT
BEGIN:VEVENT
DTSTART;TZID=America/Sao_Paulo:20201211T180000
DTEND;TZID=America/Sao_Paulo:20201211T200000
DTSTAMP:20260423T124105
CREATED:20201206T191346Z
LAST-MODIFIED:20210509T223029Z
UID:10010-1607709600-1607716800@www.ibepbrasil.org.br
SUMMARY:Semana de Debates do IBEP - China e Brasil em Perspectiva
DESCRIPTION:O final do ano vem chegando. Este 2020 tão trágico quanto atípico. Na impossibilidade de realizar reuniões\, seminários e debates presenciais\, nossa entidade\, para não retroceder em seus objetivos\,  voltou-se para si\, visando a estruturação de seu aparato interno. Graças a isso\, pudemos dar passos importantes\, tais como: a implantação de suas câmaras temáticas\, que já no início no ano vindouro começarão a produzir literatura e reflexão; a renovação dos contatos e convênios com instituições como a UERJ e as associações de docentes do Nordeste e; a iniciativa mais importante\, o lançamento do nosso novo web site\, que vem sendo periodicamente reabastecido com notícias e artigos da opinião pública progressista e textos de produção dos próprios associados do IBEP. \nDebate: China e Brasil em Perspectiva\ncom Elias Jabour\, Geógrafo e Professor da UERJ e Flavia Vinhaes\, Presidente do Corecon-RJ. \nCanal do IBEP no Youtube: https://www.youtube.com/channel/UCLKFlAP-RuC8rfumqcBDgFQ
URL:https://www.ibepbrasil.org.br/evento/semana-de-debates-do-ibep-china-e-brasil-em-perspectiva/
LOCATION:No Youtube
ATTACH;FMTTYPE=image/jpeg:https://www.ibepbrasil.org.br/wp-content/uploads/2020/12/eventos_ibep_debate_12-11.jpg
END:VEVENT
BEGIN:VEVENT
DTSTART;TZID=America/Sao_Paulo:20201209T180000
DTEND;TZID=America/Sao_Paulo:20201209T200000
DTSTAMP:20260423T124105
CREATED:20201206T183959Z
LAST-MODIFIED:20201206T183959Z
UID:10007-1607536800-1607544000@www.ibepbrasil.org.br
SUMMARY:Semana de Debates do IBEP - Relações de Trabalho em Mutação
DESCRIPTION:O final do ano vem chegando. Este 2020 tão trágico quanto atípico. Na impossibilidade de realizar reuniões\, seminários e debates presenciais\, nossa entidade\, para não retroceder em seus objetivos\,  voltou-se para si\, visando a estruturação de seu aparato interno. Graças a isso\, pudemos dar passos importantes\, tais como: a implantação de suas câmaras temáticas\, que já no início no ano vindouro começarão a produzir literatura e reflexão; a renovação dos contatos e convênios com instituições como a UERJ e as associações de docentes do Nordeste e; a iniciativa mais importante\, o lançamento do nosso novo web site\, que vem sendo periodicamente reabastecido com notícias e artigos da opinião pública progressista e textos de produção dos próprios associados do IBEP. \nDebate: Relações de Trabalho em Mutação\ncom Marcio Pochmann\, Professor da Unicamp e Luiz Antonio Silva\, sindicalista e Presidente da Federação Nacional dos Telefônicos. \nCanal do IBEP no Youtube: https://www.youtube.com/channel/UCLKFlAP-RuC8rfumqcBDgFQ
URL:https://www.ibepbrasil.org.br/evento/semana-de-debates-do-ibep-relacoes-de-trabalho-em-mutacao/
LOCATION:No Youtube
ATTACH;FMTTYPE=image/jpeg:https://www.ibepbrasil.org.br/wp-content/uploads/2020/12/eventos_ibep_debate_12-09.jpg
END:VEVENT
BEGIN:VEVENT
DTSTART;TZID=America/Sao_Paulo:20201207T180000
DTEND;TZID=America/Sao_Paulo:20201207T200000
DTSTAMP:20260423T124105
CREATED:20201207T210000Z
LAST-MODIFIED:20201206T183057Z
UID:9998-1607364000-1607371200@www.ibepbrasil.org.br
SUMMARY:Semana de Debates do IBEP - Balanço das Eleições
DESCRIPTION:O final do ano vem chegando. Este 2020 tão trágico quanto atípico. Na impossibilidade de realizar reuniões\, seminários e debates presenciais\, nossa entidade\, para não retroceder em seus objetivos\,  voltou-se para si\, visando a estruturação de seu aparato interno. Graças a isso\, pudemos dar passos importantes\, tais como: a implantação de suas câmaras temáticas\, que já no início no ano vindouro começarão a produzir literatura e reflexão; a renovação dos contatos e convênios com instituições como a UERJ e as associações de docentes do Nordeste e; a iniciativa mais importante\, o lançamento do nosso novo web site\, que vem sendo periodicamente reabastecido com notícias e artigos da opinião pública progressista e textos de produção dos próprios associados do IBEP. \nDebate: Balanço das Eleições\ncom Darlan Montenegro\, Professor de Ciência Política da UFRRJ e Roberto Amaral\, ex- ministro de Ciência e Tecnologia e Presidente do IBEP. \nCanal do IBEP no Youtube: https://www.youtube.com/channel/UCLKFlAP-RuC8rfumqcBDgFQ
URL:https://www.ibepbrasil.org.br/evento/semana-de-debates-do-ibep-balanco-das-eleicoes/
LOCATION:No Youtube
ATTACH;FMTTYPE=image/jpeg:https://www.ibepbrasil.org.br/wp-content/uploads/2020/12/eventos_ibep_debate_12-07.jpg
END:VEVENT
BEGIN:VEVENT
DTSTART;TZID=America/Sao_Paulo:20201026T180000
DTEND;TZID=America/Sao_Paulo:20201026T193000
DTSTAMP:20260423T124105
CREATED:20201026T210000Z
LAST-MODIFIED:20201010T203911Z
UID:9586-1603735200-1603740600@www.ibepbrasil.org.br
SUMMARY:Seminário Desafios do Brasil Atual - Pandemia e Desigualdades sociais
DESCRIPTION:Seminário virtual “Desafios do Brasil Atual“\n\nTema: “Pandemia e Desigualdades sociais”\nMesa: Prof. Carlos Gadelha – (FIOCRUZ)  Pesquisador Reinaldo Guimarães –  (Professor do Núcleo de Bioética e Ética Aplicada da UFRJ)   \nMediador: Dr José Noronha – (ABRASCO)  \nOlá Amigo(a)s\, Companheiro(a)s\, Desde o início do ano a diretoria do IBEP trabalha para implementar suas atividades\, já comunicadas em um boletim enviado no início do ano\, onde apresentamos o programa que seria colocado em ação em 2020. Com a chegada da pandemia sofremos um reverso\, e nossa prioridade\, através da parceria com a Fundação Friedrich Ebert\, foi a criação de nossa página na internet – www.ibepbrasil.org – Agora retomamos os trabalhos e estamos organizando o seminário\, dessa vez virtual\, “Desafios do Brasil Atual” sempre às segundas-feiras veja programa abaixo. Você é nosso convidado(a) e aguardamos sua participação. \n 
URL:https://www.ibepbrasil.org.br/evento/seminario-desafios-do-brasil-atual-pandemia-e-desigualdades-sociais/
CATEGORIES:Seminário
ATTACH;FMTTYPE=image/jpeg:https://www.ibepbrasil.org.br/wp-content/uploads/2020/10/seminario_03.jpg
END:VEVENT
BEGIN:VEVENT
DTSTART;TZID=America/Sao_Paulo:20201012T180000
DTEND;TZID=America/Sao_Paulo:20201012T193000
DTSTAMP:20260423T124105
CREATED:20201012T210000Z
LAST-MODIFIED:20201010T203842Z
UID:9581-1602525600-1602531000@www.ibepbrasil.org.br
SUMMARY:Seminário Desafios do Brasil Atual - Eleições Municipais. Federalismo e autonomia
DESCRIPTION:Seminário virtual “Desafios do Brasil Atual“\n\nTema: “Eleições Municipais. Federalismo e autonomia”\nMesa: Prof.  Floriano Godinho – (UERJ)  e Profª Sulamis Dain – (UERJ) \nMediadora: Maria Luiza Busse – (Jornalista). \nOlá Amigo(a)s\, Companheiro(a)s\, Desde o início do ano a diretoria do IBEP trabalha para implementar suas atividades\, já comunicadas em um boletim enviado no início do ano\, onde apresentamos o programa que seria colocado em ação em 2020. \nCom a chegada da pandemia sofremos um reverso\, e nossa prioridade\, através da parceria com a Fundação Friedrich Ebert\, foi a criação de nossa página na internet – www.ibepbrasil.org – Agora retomamos os trabalhos e estamos organizando o seminário\, dessa vez virtual\, “Desafios do Brasil Atual” sempre às segundas-feiras veja programa abaixo. Você é nosso convidado(a) e aguardamos sua participação. Para participar do Seminário é só acessar o link abaixo: \nEntrar na reunião Google Meet https://meet.google.com/htn-abpx-ogq  \n\n\n\n  \n 
URL:https://www.ibepbrasil.org.br/evento/seminario-desafios-do-brasil-atual-eleicoes-municipais-federalismo-e-autonomia/
LOCATION:Pelo Google Meet
CATEGORIES:Seminário
ATTACH;FMTTYPE=image/jpeg:https://www.ibepbrasil.org.br/wp-content/uploads/2020/10/seminario_02.jpg
END:VEVENT
BEGIN:VEVENT
DTSTART;TZID=America/Sao_Paulo:20200928T180000
DTEND;TZID=America/Sao_Paulo:20200928T193000
DTSTAMP:20260423T124105
CREATED:20200928T210000Z
LAST-MODIFIED:20200923T225434Z
UID:8848-1601316000-1601321400@www.ibepbrasil.org.br
SUMMARY:Seminário Desafios do Brasil Atual - Desmonte do Estado Nacional
DESCRIPTION:  \n\nSeminário virtual “Desafios do Brasil Atual“\n\nTema: “Desmonte do Estado Nacional”\nMesa:Prof. Francisco Carlos Teixeira – (UFRJ e ufrrj)  Prof. Américo Freire – (CPDOC/FGV) \nMediator: Prof. Lincoln Penna\, Secretário Geral do IBEP. \nOlá Amigo(a)s\, Companheiro(a)s\, Desde o início do ano a diretoria do IBEP trabalha para implementar suas atividades\, já comunicadas em um boletim enviado no início do ano\, onde apresentamos o programa que seria colocado em ação em 2020. \nCom a chegada da pandemia sofremos um reverso\, e nossa prioridade\, através da parceria com a Fundação Friedrich Ebert\, foi a criação de nossa página na internet – www.ibepbrasil.org – Agora retomamos os trabalhos e estamos organizando o seminário\, dessa vez virtual\, “Desafios do Brasil Atual” sempre às segundas-feiras veja programa abaixo. \nVocê é nosso convidado(a) e aguardamos sua participação. \nPara participar do Seminário é só acessar o link abaixo:Entrar na reunião Zoomhttps://us02web.zoom.us/j/86097266275?pwd=L3JTQ25EMVg1cGk2cEorVTlHR1pNZz09
URL:https://www.ibepbrasil.org.br/evento/seminario-desafios-do-brasil-atual-desmonte-do-estado-nacional/
LOCATION:Pelo Zoom
CATEGORIES:Seminário
END:VEVENT
END:VCALENDAR