BEGIN:VCALENDAR
VERSION:2.0
PRODID:-//IBEP - Instituto Brasileiro de Estudos Pol&iacute;ticos - ECPv6.15.10//NONSGML v1.0//EN
CALSCALE:GREGORIAN
METHOD:PUBLISH
X-ORIGINAL-URL:https://www.ibepbrasil.org.br
X-WR-CALDESC:Eventos para IBEP - Instituto Brasileiro de Estudos Pol&iacute;ticos
REFRESH-INTERVAL;VALUE=DURATION:PT1H
X-Robots-Tag:noindex
X-PUBLISHED-TTL:PT1H
BEGIN:VTIMEZONE
TZID:America/Sao_Paulo
BEGIN:STANDARD
TZOFFSETFROM:-0200
TZOFFSETTO:-0300
TZNAME:-03
DTSTART:20190217T020000
END:STANDARD
END:VTIMEZONE
BEGIN:VEVENT
DTSTART;TZID=America/Sao_Paulo:20210916T143000
DTEND;TZID=America/Sao_Paulo:20210916T163000
DTSTAMP:20260423T111735
CREATED:20210510T235605Z
LAST-MODIFIED:20210512T131553Z
UID:10360-1631802600-1631809800@www.ibepbrasil.org.br
SUMMARY:A Construção das Relações Internacionais no Brasil
DESCRIPTION:Seminário –  A Construção das Relações Internacionais no Brasil\nExpositor:  Celso Amorim\nComentador: Muniz Gonçalves Ferreira\n\n\n  \nCICLO DE SEMINÁRIOS “O BRASIL DE NOSSO TEMPO” – DESENVOLVIMENTO\, CULTURA E PROJETO NACIONAL \nLink para inscrição: https://forms.gle/95ZY3yJ5nqr3EopA9 \nLink para assistir aos eventos: https://www.youtube.com/c/IbepBrasil/live
URL:https://www.ibepbrasil.org.br/evento/a-construcao-das-relacoes-internacionais-no-brasil/
LOCATION:No Youtube
CATEGORIES:Seminário
ATTACH;FMTTYPE=image/jpeg:https://www.ibepbrasil.org.br/wp-content/uploads/2021/05/evento_09-16.jpg
END:VEVENT
BEGIN:VEVENT
DTSTART;TZID=America/Sao_Paulo:20210902T143000
DTEND;TZID=America/Sao_Paulo:20210902T163000
DTSTAMP:20260423T111735
CREATED:20210510T234819Z
LAST-MODIFIED:20210512T131610Z
UID:10357-1630593000-1630600200@www.ibepbrasil.org.br
SUMMARY:Desenvolvimento e a Questão Regional em Celso Furtado
DESCRIPTION:Seminário –  Desenvolvimento e a Questão Regional em Celso Furtado\nExpositor:  Tania Bacelar\nComentador: Elias Jabour\n\n\n  \nCICLO DE SEMINÁRIOS “O BRASIL DE NOSSO TEMPO” – DESENVOLVIMENTO\, CULTURA E PROJETO NACIONAL \nLink para inscrição: https://forms.gle/95ZY3yJ5nqr3EopA9 \nLink para assistir aos eventos: https://www.youtube.com/c/IbepBrasil/live
URL:https://www.ibepbrasil.org.br/evento/desenvolvimento-e-a-questao-regional-em-celso-furtado/
LOCATION:No Youtube
CATEGORIES:Seminário
ATTACH;FMTTYPE=image/jpeg:https://www.ibepbrasil.org.br/wp-content/uploads/2021/05/evento_09-02.jpg
END:VEVENT
BEGIN:VEVENT
DTSTART;TZID=America/Sao_Paulo:20210826T160000
DTEND;TZID=America/Sao_Paulo:20210826T180000
DTSTAMP:20260423T111735
CREATED:20210809T182552Z
LAST-MODIFIED:20210824T011701Z
UID:10466-1629993600-1630000800@www.ibepbrasil.org.br
SUMMARY:Diagnóstico Econômico do estado do Rio de Janeiro: Dilemas e Potencialidades
DESCRIPTION:Debate: Diagnóstico Econômico do estado do Rio de Janeiro: Dilemas e Potencialidades\nParticipantes:\nBruno Sobral: Economista\, Subsecretário de Política Fiscal (SEFAZ-RJ)\, Professor da FCE/UERJ e Coordenador da Rede Pró-Rio. \nPaula Nazareth: Economista\, Doutora em Economia pela UFRJ e Auditora de Controle Externo do Tribunal de Contas do Rio de Janeiro (TCE-RJ). \nRicardo Lodi: Advogado\, Prof. de Direito Financeiro\, Reitor da UERJ. \nAssista no Youtube: https://www.youtube.com/watch?v=azrsyB3GhMI
URL:https://www.ibepbrasil.org.br/evento/diagnostico-economico-do-estado-do-rio-de-janeiro-dilemas-e-potencialidades/
LOCATION:No Youtube
CATEGORIES:Debate
ATTACH;FMTTYPE=image/jpeg:https://www.ibepbrasil.org.br/wp-content/uploads/2021/08/thumb_rio2.jpg
END:VEVENT
BEGIN:VEVENT
DTSTART;TZID=America/Sao_Paulo:20210819T143000
DTEND;TZID=America/Sao_Paulo:20210819T163000
DTSTAMP:20260423T111735
CREATED:20210510T233316Z
LAST-MODIFIED:20210512T131634Z
UID:10353-1629383400-1629390600@www.ibepbrasil.org.br
SUMMARY:A Fome no Brasil: de Josué de Castro à Pandemia
DESCRIPTION:Seminário –  A Fome no Brasil: de Josué de Castro à Pandemia\nExpositor:  José Graziano da Silva\nComentador: João Pedro Stédile\n\n  \nCICLO DE SEMINÁRIOS “O BRASIL DE NOSSO TEMPO” – DESENVOLVIMENTO\, CULTURA E PROJETO NACIONAL \nLink para inscrição: https://forms.gle/95ZY3yJ5nqr3EopA9 \nLink para assistir aos eventos: https://www.youtube.com/c/IbepBrasil/live
URL:https://www.ibepbrasil.org.br/evento/a-fome-no-brasil-de-josue-de-castro-a-pandemia/
LOCATION:No Youtube
CATEGORIES:Seminário
ATTACH;FMTTYPE=image/jpeg:https://www.ibepbrasil.org.br/wp-content/uploads/2021/05/evento_08-19.jpg
END:VEVENT
BEGIN:VEVENT
DTSTART;TZID=America/Sao_Paulo:20210805T143000
DTEND;TZID=America/Sao_Paulo:20210805T163000
DTSTAMP:20260423T111735
CREATED:20210510T200708Z
LAST-MODIFIED:20210512T131655Z
UID:10350-1628173800-1628181000@www.ibepbrasil.org.br
SUMMARY:Meios de Comunicação\, Cultura e Desenvolvimento no Brasil
DESCRIPTION:Seminário –  Meios de Comunicação\, Cultura e Desenvolvimento no Brasil\nExpositor:  Franklin Martins\nComentador: Fernando Morais\n\n  \nCICLO DE SEMINÁRIOS “O BRASIL DE NOSSO TEMPO” – DESENVOLVIMENTO\, CULTURA E PROJETO NACIONAL \nLink para inscrição: https://forms.gle/95ZY3yJ5nqr3EopA9 \nLink para assistir aos eventos: https://www.youtube.com/c/IbepBrasil/live
URL:https://www.ibepbrasil.org.br/evento/meios-de-comunicacao-cultura-e-desenvolvimento-no-brasil/
LOCATION:No Youtube
CATEGORIES:Seminário
ATTACH;FMTTYPE=image/jpeg:https://www.ibepbrasil.org.br/wp-content/uploads/2021/05/evento_08-05.jpg
END:VEVENT
BEGIN:VEVENT
DTSTART;TZID=America/Sao_Paulo:20210722T143000
DTEND;TZID=America/Sao_Paulo:20210722T163000
DTSTAMP:20260423T111735
CREATED:20210510T195710Z
LAST-MODIFIED:20210512T131715Z
UID:10347-1626964200-1626971400@www.ibepbrasil.org.br
SUMMARY:A Ciência como Agente de Transformação Social: O Caso do Campus do Cérebro de Macaíba\, Rn
DESCRIPTION:Seminário –  A Ciência como Agente de Transformação Social: O Caso do Campus do Cérebro de Macaíba\, Rn\nExpositor:  Miguel Nicolelis\nComentador: Roberto Amaral\n\n  \nCICLO DE SEMINÁRIOS “O BRASIL DE NOSSO TEMPO” – DESENVOLVIMENTO\, CULTURA E PROJETO NACIONAL \nLink para inscrição: https://forms.gle/95ZY3yJ5nqr3EopA9 \nLink para assistir aos eventos: https://www.youtube.com/c/IbepBrasil/live
URL:https://www.ibepbrasil.org.br/evento/a-ciencia-como-agente-de-transformacao-social-o-caso-do-campus-do-cerebro-de-macaiba-rn/
LOCATION:No Youtube
CATEGORIES:Seminário
ATTACH;FMTTYPE=image/jpeg:https://www.ibepbrasil.org.br/wp-content/uploads/2021/05/evento_07-22.jpg
END:VEVENT
BEGIN:VEVENT
DTSTART;TZID=America/Sao_Paulo:20210708T143000
DTEND;TZID=America/Sao_Paulo:20210708T163000
DTSTAMP:20260423T111735
CREATED:20210510T194916Z
LAST-MODIFIED:20210512T131736Z
UID:10344-1625754600-1625761800@www.ibepbrasil.org.br
SUMMARY:Desenvolvimento Nacional\, Cultura e Trabalho
DESCRIPTION:Seminário – Desenvolvimento Nacional\, Cultura e Trabalho\nExpositor:  Marcio Pochmann\nComentador: Flavia Vinhaes\n\n  \nCICLO DE SEMINÁRIOS “O BRASIL DE NOSSO TEMPO” – DESENVOLVIMENTO\, CULTURA E PROJETO NACIONAL \nLink para inscrição: https://forms.gle/95ZY3yJ5nqr3EopA9 \nLink para assistir aos eventos: https://www.youtube.com/c/IbepBrasil/live
URL:https://www.ibepbrasil.org.br/evento/desenvolvimento-nacional-cultura-e-trabalho/
LOCATION:No Youtube
CATEGORIES:Seminário
ATTACH;FMTTYPE=image/jpeg:https://www.ibepbrasil.org.br/wp-content/uploads/2021/05/evento_07-08.jpg
END:VEVENT
BEGIN:VEVENT
DTSTART;TZID=America/Sao_Paulo:20210701T160000
DTEND;TZID=America/Sao_Paulo:20210701T180000
DTSTAMP:20260423T111735
CREATED:20210629T011525Z
LAST-MODIFIED:20210629T012413Z
UID:10455-1625155200-1625162400@www.ibepbrasil.org.br
SUMMARY:Diálogos Ibep - Soberania Nacional: Ciência\, Tecnologia\, Inovação e Industrialização – o Pré-Sal
DESCRIPTION:No próximo dia 1º a nova diretoria do IBEP\, gestão 2021/2023\, toma posse.\nEm seguida haverá mais uma edição da série “Diálogos IBEP”\, com o presidente emérito da instituição\, Roberto Amaral\, ministro de Ciência e Tecnologia (2003-2004)\, e o Acadêmico Guilherme Estrella\, diretor de Exploração e Produção da Petrobras ( 2003 -2012)\, que irão debater a soberania nacional. \nPROGRAMAÇÃO:\n16:00 às 16:15 – Abertura e posse da diretoria eleita e do presidente emérito;\n16:15 às 17:15 – Diálogo entre Roberto Amaral\, ministro de Ciência e Tecnologia (2003-2004) e o Acadêmico Guilherme Estrella\, diretor de Exploração e Produção da Petrobras (2003 – 2012);\n17:15 às 17:45 – Debate;\n17:45 às 18:00 – Encerramento. \nAssista no canal do IBEP no Youtube\, clique aqui.
URL:https://www.ibepbrasil.org.br/evento/dialogos-ibep-soberania-nacional-ciencia-tecnologia-inovacao-e-industrializacao-o-pre-sal/
LOCATION:No Youtube
CATEGORIES:Debate
ATTACH;FMTTYPE=image/jpeg:https://www.ibepbrasil.org.br/wp-content/uploads/2021/06/img_dialogos-ibep.jpg
END:VEVENT
BEGIN:VEVENT
DTSTART;TZID=America/Sao_Paulo:20210624T143000
DTEND;TZID=America/Sao_Paulo:20210624T163000
DTSTAMP:20260423T111735
CREATED:20210510T014503Z
LAST-MODIFIED:20210512T131751Z
UID:10341-1624545000-1624552200@www.ibepbrasil.org.br
SUMMARY:Saúde e a Modernização do Brasil
DESCRIPTION:Seminário – Saúde e a Modernização do Brasil\nExpositor:  Sulamis Dain\nComentador: José Gomes Temporão\n\n  \nCICLO DE SEMINÁRIOS “O BRASIL DE NOSSO TEMPO” – DESENVOLVIMENTO\, CULTURA E PROJETO NACIONAL \nLink para inscrição: https://forms.gle/95ZY3yJ5nqr3EopA9 \nLink para assistir aos eventos: https://www.youtube.com/c/IbepBrasil/live
URL:https://www.ibepbrasil.org.br/evento/saude-e-a-modernizacao-do-brasil/
LOCATION:No Youtube
CATEGORIES:Seminário
ATTACH;FMTTYPE=image/jpeg:https://www.ibepbrasil.org.br/wp-content/uploads/2021/05/evento_06-24.jpg
END:VEVENT
BEGIN:VEVENT
DTSTART;TZID=America/Sao_Paulo:20210610T143000
DTEND;TZID=America/Sao_Paulo:20210610T163000
DTSTAMP:20260423T111735
CREATED:20210510T013352Z
LAST-MODIFIED:20210512T131756Z
UID:10338-1623335400-1623342600@www.ibepbrasil.org.br
SUMMARY:Educação e o Projeto Nacional entre Anisio Teixeira e Darcy Ribeiro
DESCRIPTION:Seminário – Educação e o Projeto Nacional entre Anisio Teixeira e Darcy Ribeiro\nExpositor: Gaudêncio Frigoto\nComentador: Lincoln Penna\n\n  \nCICLO DE SEMINÁRIOS “O BRASIL DE NOSSO TEMPO” – DESENVOLVIMENTO\, CULTURA E PROJETO NACIONAL \nLink para inscrição: https://forms.gle/95ZY3yJ5nqr3EopA9 \nLink para assistir aos eventos: https://www.youtube.com/c/IbepBrasil/live
URL:https://www.ibepbrasil.org.br/evento/educacao-e-o-projeto-nacional-entre-anisio-teixeira-e-darcy-ribeiro/
LOCATION:No Youtube
CATEGORIES:Seminário
ATTACH;FMTTYPE=image/jpeg:https://www.ibepbrasil.org.br/wp-content/uploads/2021/05/evento_06-10.jpg
END:VEVENT
BEGIN:VEVENT
DTSTART;TZID=America/Sao_Paulo:20210527T143000
DTEND;TZID=America/Sao_Paulo:20210527T163000
DTSTAMP:20260423T111735
CREATED:20210510T010817Z
LAST-MODIFIED:20210512T131801Z
UID:10333-1622125800-1622133000@www.ibepbrasil.org.br
SUMMARY:Projeto Nacional e a Construção do Brasil
DESCRIPTION:Seminário – Projeto Nacional e a Construção do Brasil\nExpositor: Luiz Gonzaga de Mello Belluzzo\nComentador: Saturnino Braga\n\n  \nCICLO DE SEMINÁRIOS “O BRASIL DE NOSSO TEMPO” – DESENVOLVIMENTO\, CULTURA E PROJETO NACIONAL \nLink para inscrição: https://forms.gle/95ZY3yJ5nqr3EopA9 \nLink para assistir aos eventos: https://www.youtube.com/c/IbepBrasil/live
URL:https://www.ibepbrasil.org.br/evento/projeto-nacional-a-a-construcao-do-brasil/
LOCATION:No Youtube
CATEGORIES:Seminário
ATTACH;FMTTYPE=image/jpeg:https://www.ibepbrasil.org.br/wp-content/uploads/2021/05/evento_05-27.jpg
END:VEVENT
BEGIN:VEVENT
DTSTART;TZID=America/Sao_Paulo:20210513T143000
DTEND;TZID=America/Sao_Paulo:20210513T163000
DTSTAMP:20260423T111735
CREATED:20210509T214912Z
LAST-MODIFIED:20210512T131810Z
UID:10305-1620916200-1620923400@www.ibepbrasil.org.br
SUMMARY:Conferência de abertura - Sociedade e cultura no Brasil contemporâneo
DESCRIPTION:Conferência de abertura – SOCIEDADE E CULTURA NO BRASIL CONTEMPORÂNEO\nConferencista: João Manuel Cardoso de Mello \n\n  \nCICLO DE SEMINÁRIOS “O BRASIL DE NOSSO TEMPO” \nDESENVOLVIMENTO\, CULTURA E PROJETO NACIONAL \nO Instituto Brasileiro de Estudos Políticos – IBEP\, por meio de sua Câmara Temática de Economia e Desenvolvimento\, convida para o ciclo de seminários “O Brasil de nosso tempo – desenvolvimento\, cultura e projeto nacional”. Seu objetivo é tratar temas centrais do desenvolvimento do Brasil contemporâneo a partir de grandes referências do pensamento social brasileiro. Conforme os princípios do IBEP\, trata-se de uma iniciativa voltada para a expansão da consciência pública de defesa do desenvolvimento soberano e democrático do país\, na sua economia\, organização política\, social e na sua cultura. \nVários temas serão abordados tendo por campo comum as grandes interpretações do Brasil\, assim como as questões que envolvem a efetiva modernização do país diante do quadro contemporâneo. Partindo da conferência de abertura com o professor João Manuel Cardoso de Mello sobre a “Sociedade e a cultura no Brasil contemporâneo”\, o ciclo abrigará seminários sobre projeto nacional\, educação\, saúde\, cultura e trabalho\, desenvolvimento científico\, meios de comunicação\, a fome\, a questão regional e as relações internacionais\, com a participação de expositores e comentadores de grande representatividade na cena política e intelectual do país. \nCom início em 13 de maio\, após os dez seminários previstos que ocorrerão quinzenalmente sempre às quintas-feiras (14h30)\, teremos o encerramento com a atividade “Vida política e democracia para o desenvolvimento nacional”\, em homenagem ao Dr. Ulysses Guimarães no início de outubro. Trata-se de uma homenagem a vida pública brasileira na semana de comemorações do aniversário da Constituição de 1988\, com a presença de importantes representantes de correntes políticas progressistas no Brasil integradas ao IBEP. \nA série de seminários será certificada para quem inscrever-se no link abaixo e participar de 80% do total das atividades programadas. \nLink para inscrição: https://forms.gle/95ZY3yJ5nqr3EopA9 \nLink para assistir aos eventos: https://www.youtube.com/c/IbepBrasil/live
URL:https://www.ibepbrasil.org.br/evento/conferencia-de-abertura-sociedade-e-cultura-no-brasil-contemporaneo/
LOCATION:No Youtube
CATEGORIES:Conferência
ATTACH;FMTTYPE=image/jpeg:https://www.ibepbrasil.org.br/wp-content/uploads/2021/05/conferencia.jpg
END:VEVENT
BEGIN:VEVENT
DTSTART;TZID=America/Sao_Paulo:20201217T183000
DTEND;TZID=America/Sao_Paulo:20201217T193000
DTSTAMP:20260423T111735
CREATED:20201217T213000Z
LAST-MODIFIED:20201214T165640Z
UID:10043-1608229800-1608233400@www.ibepbrasil.org.br
SUMMARY:DIÁLOGOS IBEP - Centenário de Celso Furtado\, Intérprete do Brasil
DESCRIPTION:Tema:  “Centenário de Celso Furtado\, Intérprete do Brasil”\nPresenças: Rosa Freire D’Aguiar\, Jornalista e Tradutora (Diretora do Centro Internacional Celso Furtado) e Roberto Saturnino Braga\, Ex-Senador e Ex -Prefeito do Rio de Janeiro. \nA transmissão será através do Canal do IBEP no Youtube: https://www.youtube.com/channel/UCLKFlAP-RuC8rfumqcBDgFQ
URL:https://www.ibepbrasil.org.br/evento/dialogos-ibep-centenario-de-celso-furtado-interprete-do-brasil/
LOCATION:No Youtube
ATTACH;FMTTYPE=image/jpeg:https://www.ibepbrasil.org.br/wp-content/uploads/2020/12/eventos_5.jpg
END:VEVENT
BEGIN:VEVENT
DTSTART;TZID=America/Sao_Paulo:20201215T183000
DTEND;TZID=America/Sao_Paulo:20201215T193000
DTSTAMP:20260423T111735
CREATED:20201215T213000Z
LAST-MODIFIED:20201214T165641Z
UID:10040-1608057000-1608060600@www.ibepbrasil.org.br
SUMMARY:DIÁLOGOS IBEP - O Feminicídio no Brasil: Causas e Dinâmica
DESCRIPTION:Tema:  “O Feminicídio no Brasil: Causas e Dinâmica“\nPresenças: Giowana Cambrone\, Advogada e Professora Universitária\, Vice Presidente da Comissão de Diversidade Sexual e Gênero da OAB-Rj; Jackeline Aparecida Ferreira Romio\, Doutora em Demografia pela Unicamp; Rosana Morgado\, Professora da Escola de Serviço Social da UFRJ\, sob a mediação de Susana de Castro\, Professora Associada de Filosofia da UFRJ. \nA transmissão será através do Canal do IBEP no Youtube: https://www.youtube.com/channel/UCLKFlAP-RuC8rfumqcBDgFQ
URL:https://www.ibepbrasil.org.br/evento/dialogos-ibep-o-feminicidio-no-brasil-causas-e-dinamica/
LOCATION:No Youtube
ATTACH;FMTTYPE=image/jpeg:https://www.ibepbrasil.org.br/wp-content/uploads/2020/12/eventos_4.jpg
END:VEVENT
BEGIN:VEVENT
DTSTART;TZID=America/Sao_Paulo:20201211T180000
DTEND;TZID=America/Sao_Paulo:20201211T200000
DTSTAMP:20260423T111735
CREATED:20201206T191346Z
LAST-MODIFIED:20210509T223029Z
UID:10010-1607709600-1607716800@www.ibepbrasil.org.br
SUMMARY:Semana de Debates do IBEP - China e Brasil em Perspectiva
DESCRIPTION:O final do ano vem chegando. Este 2020 tão trágico quanto atípico. Na impossibilidade de realizar reuniões\, seminários e debates presenciais\, nossa entidade\, para não retroceder em seus objetivos\,  voltou-se para si\, visando a estruturação de seu aparato interno. Graças a isso\, pudemos dar passos importantes\, tais como: a implantação de suas câmaras temáticas\, que já no início no ano vindouro começarão a produzir literatura e reflexão; a renovação dos contatos e convênios com instituições como a UERJ e as associações de docentes do Nordeste e; a iniciativa mais importante\, o lançamento do nosso novo web site\, que vem sendo periodicamente reabastecido com notícias e artigos da opinião pública progressista e textos de produção dos próprios associados do IBEP. \nDebate: China e Brasil em Perspectiva\ncom Elias Jabour\, Geógrafo e Professor da UERJ e Flavia Vinhaes\, Presidente do Corecon-RJ. \nCanal do IBEP no Youtube: https://www.youtube.com/channel/UCLKFlAP-RuC8rfumqcBDgFQ
URL:https://www.ibepbrasil.org.br/evento/semana-de-debates-do-ibep-china-e-brasil-em-perspectiva/
LOCATION:No Youtube
ATTACH;FMTTYPE=image/jpeg:https://www.ibepbrasil.org.br/wp-content/uploads/2020/12/eventos_ibep_debate_12-11.jpg
END:VEVENT
BEGIN:VEVENT
DTSTART;TZID=America/Sao_Paulo:20201209T180000
DTEND;TZID=America/Sao_Paulo:20201209T200000
DTSTAMP:20260423T111735
CREATED:20201206T183959Z
LAST-MODIFIED:20201206T183959Z
UID:10007-1607536800-1607544000@www.ibepbrasil.org.br
SUMMARY:Semana de Debates do IBEP - Relações de Trabalho em Mutação
DESCRIPTION:O final do ano vem chegando. Este 2020 tão trágico quanto atípico. Na impossibilidade de realizar reuniões\, seminários e debates presenciais\, nossa entidade\, para não retroceder em seus objetivos\,  voltou-se para si\, visando a estruturação de seu aparato interno. Graças a isso\, pudemos dar passos importantes\, tais como: a implantação de suas câmaras temáticas\, que já no início no ano vindouro começarão a produzir literatura e reflexão; a renovação dos contatos e convênios com instituições como a UERJ e as associações de docentes do Nordeste e; a iniciativa mais importante\, o lançamento do nosso novo web site\, que vem sendo periodicamente reabastecido com notícias e artigos da opinião pública progressista e textos de produção dos próprios associados do IBEP. \nDebate: Relações de Trabalho em Mutação\ncom Marcio Pochmann\, Professor da Unicamp e Luiz Antonio Silva\, sindicalista e Presidente da Federação Nacional dos Telefônicos. \nCanal do IBEP no Youtube: https://www.youtube.com/channel/UCLKFlAP-RuC8rfumqcBDgFQ
URL:https://www.ibepbrasil.org.br/evento/semana-de-debates-do-ibep-relacoes-de-trabalho-em-mutacao/
LOCATION:No Youtube
ATTACH;FMTTYPE=image/jpeg:https://www.ibepbrasil.org.br/wp-content/uploads/2020/12/eventos_ibep_debate_12-09.jpg
END:VEVENT
BEGIN:VEVENT
DTSTART;TZID=America/Sao_Paulo:20201207T180000
DTEND;TZID=America/Sao_Paulo:20201207T200000
DTSTAMP:20260423T111735
CREATED:20201207T210000Z
LAST-MODIFIED:20201206T183057Z
UID:9998-1607364000-1607371200@www.ibepbrasil.org.br
SUMMARY:Semana de Debates do IBEP - Balanço das Eleições
DESCRIPTION:O final do ano vem chegando. Este 2020 tão trágico quanto atípico. Na impossibilidade de realizar reuniões\, seminários e debates presenciais\, nossa entidade\, para não retroceder em seus objetivos\,  voltou-se para si\, visando a estruturação de seu aparato interno. Graças a isso\, pudemos dar passos importantes\, tais como: a implantação de suas câmaras temáticas\, que já no início no ano vindouro começarão a produzir literatura e reflexão; a renovação dos contatos e convênios com instituições como a UERJ e as associações de docentes do Nordeste e; a iniciativa mais importante\, o lançamento do nosso novo web site\, que vem sendo periodicamente reabastecido com notícias e artigos da opinião pública progressista e textos de produção dos próprios associados do IBEP. \nDebate: Balanço das Eleições\ncom Darlan Montenegro\, Professor de Ciência Política da UFRRJ e Roberto Amaral\, ex- ministro de Ciência e Tecnologia e Presidente do IBEP. \nCanal do IBEP no Youtube: https://www.youtube.com/channel/UCLKFlAP-RuC8rfumqcBDgFQ
URL:https://www.ibepbrasil.org.br/evento/semana-de-debates-do-ibep-balanco-das-eleicoes/
LOCATION:No Youtube
ATTACH;FMTTYPE=image/jpeg:https://www.ibepbrasil.org.br/wp-content/uploads/2020/12/eventos_ibep_debate_12-07.jpg
END:VEVENT
BEGIN:VEVENT
DTSTART;TZID=America/Sao_Paulo:20201026T180000
DTEND;TZID=America/Sao_Paulo:20201026T193000
DTSTAMP:20260423T111735
CREATED:20201026T210000Z
LAST-MODIFIED:20201010T203911Z
UID:9586-1603735200-1603740600@www.ibepbrasil.org.br
SUMMARY:Seminário Desafios do Brasil Atual - Pandemia e Desigualdades sociais
DESCRIPTION:Seminário virtual “Desafios do Brasil Atual“\n\nTema: “Pandemia e Desigualdades sociais”\nMesa: Prof. Carlos Gadelha – (FIOCRUZ)  Pesquisador Reinaldo Guimarães –  (Professor do Núcleo de Bioética e Ética Aplicada da UFRJ)   \nMediador: Dr José Noronha – (ABRASCO)  \nOlá Amigo(a)s\, Companheiro(a)s\, Desde o início do ano a diretoria do IBEP trabalha para implementar suas atividades\, já comunicadas em um boletim enviado no início do ano\, onde apresentamos o programa que seria colocado em ação em 2020. Com a chegada da pandemia sofremos um reverso\, e nossa prioridade\, através da parceria com a Fundação Friedrich Ebert\, foi a criação de nossa página na internet – www.ibepbrasil.org – Agora retomamos os trabalhos e estamos organizando o seminário\, dessa vez virtual\, “Desafios do Brasil Atual” sempre às segundas-feiras veja programa abaixo. Você é nosso convidado(a) e aguardamos sua participação. \n 
URL:https://www.ibepbrasil.org.br/evento/seminario-desafios-do-brasil-atual-pandemia-e-desigualdades-sociais/
CATEGORIES:Seminário
ATTACH;FMTTYPE=image/jpeg:https://www.ibepbrasil.org.br/wp-content/uploads/2020/10/seminario_03.jpg
END:VEVENT
BEGIN:VEVENT
DTSTART;TZID=America/Sao_Paulo:20201012T180000
DTEND;TZID=America/Sao_Paulo:20201012T193000
DTSTAMP:20260423T111735
CREATED:20201012T210000Z
LAST-MODIFIED:20201010T203842Z
UID:9581-1602525600-1602531000@www.ibepbrasil.org.br
SUMMARY:Seminário Desafios do Brasil Atual - Eleições Municipais. Federalismo e autonomia
DESCRIPTION:Seminário virtual “Desafios do Brasil Atual“\n\nTema: “Eleições Municipais. Federalismo e autonomia”\nMesa: Prof.  Floriano Godinho – (UERJ)  e Profª Sulamis Dain – (UERJ) \nMediadora: Maria Luiza Busse – (Jornalista). \nOlá Amigo(a)s\, Companheiro(a)s\, Desde o início do ano a diretoria do IBEP trabalha para implementar suas atividades\, já comunicadas em um boletim enviado no início do ano\, onde apresentamos o programa que seria colocado em ação em 2020. \nCom a chegada da pandemia sofremos um reverso\, e nossa prioridade\, através da parceria com a Fundação Friedrich Ebert\, foi a criação de nossa página na internet – www.ibepbrasil.org – Agora retomamos os trabalhos e estamos organizando o seminário\, dessa vez virtual\, “Desafios do Brasil Atual” sempre às segundas-feiras veja programa abaixo. Você é nosso convidado(a) e aguardamos sua participação. Para participar do Seminário é só acessar o link abaixo: \nEntrar na reunião Google Meet https://meet.google.com/htn-abpx-ogq  \n\n\n\n  \n 
URL:https://www.ibepbrasil.org.br/evento/seminario-desafios-do-brasil-atual-eleicoes-municipais-federalismo-e-autonomia/
LOCATION:Pelo Google Meet
CATEGORIES:Seminário
ATTACH;FMTTYPE=image/jpeg:https://www.ibepbrasil.org.br/wp-content/uploads/2020/10/seminario_02.jpg
END:VEVENT
BEGIN:VEVENT
DTSTART;TZID=America/Sao_Paulo:20200928T180000
DTEND;TZID=America/Sao_Paulo:20200928T193000
DTSTAMP:20260423T111735
CREATED:20200928T210000Z
LAST-MODIFIED:20200923T225434Z
UID:8848-1601316000-1601321400@www.ibepbrasil.org.br
SUMMARY:Seminário Desafios do Brasil Atual - Desmonte do Estado Nacional
DESCRIPTION:  \n\nSeminário virtual “Desafios do Brasil Atual“\n\nTema: “Desmonte do Estado Nacional”\nMesa:Prof. Francisco Carlos Teixeira – (UFRJ e ufrrj)  Prof. Américo Freire – (CPDOC/FGV) \nMediator: Prof. Lincoln Penna\, Secretário Geral do IBEP. \nOlá Amigo(a)s\, Companheiro(a)s\, Desde o início do ano a diretoria do IBEP trabalha para implementar suas atividades\, já comunicadas em um boletim enviado no início do ano\, onde apresentamos o programa que seria colocado em ação em 2020. \nCom a chegada da pandemia sofremos um reverso\, e nossa prioridade\, através da parceria com a Fundação Friedrich Ebert\, foi a criação de nossa página na internet – www.ibepbrasil.org – Agora retomamos os trabalhos e estamos organizando o seminário\, dessa vez virtual\, “Desafios do Brasil Atual” sempre às segundas-feiras veja programa abaixo. \nVocê é nosso convidado(a) e aguardamos sua participação. \nPara participar do Seminário é só acessar o link abaixo:Entrar na reunião Zoomhttps://us02web.zoom.us/j/86097266275?pwd=L3JTQ25EMVg1cGk2cEorVTlHR1pNZz09
URL:https://www.ibepbrasil.org.br/evento/seminario-desafios-do-brasil-atual-desmonte-do-estado-nacional/
LOCATION:Pelo Zoom
CATEGORIES:Seminário
END:VEVENT
END:VCALENDAR